BEGIN:VCALENDAR
VERSION:2.0
PRODID:-//Squarespace Inc/Squarespace 6//v6//EN
BEGIN:VEVENT
UID:5d71fedafbc0710001213d2e@squarespace.com
DTSTAMP:20190911T090349Z
DTSTART:20190928T020000Z
DTEND:20190928T043000Z
SUMMARY:Zwanze Day 2019
GEO:-31.94218;115.83271
LOCATION:Besk\, 264 Railway Parade\, West Leederville\, WA\, 6007\, Austral
 ia
END:VEVENT
END:VCALENDAR
