BEGIN:VCALENDAR
VERSION:2.0
PRODID:-//Squarespace Inc/Squarespace 6//v6//EN
BEGIN:VEVENT
UID:5df08496b683290241470758@squarespace.com
DTSTAMP:20191212T033813Z
DTSTART:20191231T080000Z
DTEND:20191231T180000Z
SUMMARY:Drink Local: New Years Eve at Besk
GEO:-31.94218;115.83271
LOCATION:Besk\, 264 Railway Parade\, West Leederville\, WA\, 6007\, Austral
 ia
END:VEVENT
END:VCALENDAR
