BEGIN:VCALENDAR
VERSION:2.0
PRODID:-//Squarespace Inc/Squarespace 6//v6//EN
BEGIN:VEVENT
UID:5d4a27c8802856000165cf46@squarespace.com
DTSTAMP:20190827T144631Z
DTSTART:20190815T040000Z
DTEND:20190815T155900Z
SUMMARY:Besk Grand Opening
GEO:-31.94218;115.83271
LOCATION:Besk\, 264 Railway Parade\, West Leederville\, WA\, 6007\, Austral
 ia
END:VEVENT
END:VCALENDAR
