BEGIN:VCALENDAR
VERSION:2.0
PRODID:-//Squarespace Inc/Squarespace 6//v6//EN
BEGIN:VEVENT
UID:5da3c869bc05e525b7bcda99@squarespace.com
DTSTAMP:20191014T073449Z
DTSTART:20191031T110000Z
DTEND:20191031T140000Z
SUMMARY:Besk Welcomes Fervor and L.A.S. Vino
GEO:-31.94218;115.83271
LOCATION:Besk\, 264 Railway Parade\, West Leederville\, WA\, 6007\, Austral
 ia
END:VEVENT
END:VCALENDAR
