BEGIN:VCALENDAR
VERSION:2.0
PRODID:-//Squarespace Inc/Squarespace 6//v6//EN
BEGIN:VEVENT
UID:5e5379cb1408117e3b9b2911@squarespace.com
DTSTAMP:20200225T030657Z
DTSTART:20200302T040000Z
DTEND:20200302T060000Z
SUMMARY:Big Don's Smoked Meats &amp\; Archie's Hot Chicken at Besk
GEO:-31.94218;115.83271
LOCATION:Besk\, 264 Railway Parade\, West Leederville\, Australia
END:VEVENT
END:VCALENDAR
