BEGIN:VCALENDAR
VERSION:2.0
PRODID:-//Squarespace Inc/Squarespace 6//v6//EN
BEGIN:VEVENT
UID:5d64fbd537a171000199ac09@squarespace.com
DTSTAMP:20190830T022726Z
DTSTART:20190904T103000Z
DTEND:20190904T155900Z
SUMMARY: A Night with La Violetta Wines
GEO:-31.94218;115.83271
LOCATION:Besk\, 264 Railway Parade\, West Leederville\, WA\, 6007\, Austral
 ia
END:VEVENT
END:VCALENDAR
